BEGIN:VCALENDAR
VERSION:2.0
PRODID:-//wp-events-plugin.com//7.0.5//EN
BEGIN:VEVENT
UID:15@ashrae.gr
DTSTART:20160301T170000Z
DTEND:20160301T200000Z
DTSTAMP:20160301T205151Z
URL:https://www.ashrae.gr/REGISTRATION/events/workshop-getting-from-aedgs-
 to-nzebs
SUMMARY:A workshop on getting from Advanced Energy Design Guides (AEDGs) to
  nearly Zero Energy Buildings (nZEBs)
DESCRIPTION:\n\n[su_box title="A workshop on getting from Advanced Energy D
 esign Guides (AEDGs) to nearly Zero Energy Buildings (nZEBs)" style="soft"
  box_color="#303175"]We welcome you to the workshop! It will take place at
  Athens Divani Caravel Hotel on Tuesday March 1\, 2016. [/su_box]\n\n&nbsp
 \;\n\n[su_note note_color="#c7ff66"]Download the schedule by pressing the
  Download button.[/su_note][su_button url="http://ashrae.gr/REGISTRATION/w
 p-content/uploads/2016/02/Getting-from-AEDGs-to-Zero-Energy-Buildings-time
 table.pdf" target="blank" style="glass"]Download[/su_button]
LOCATION:Divani Caravel hotel\, Vassileos Alexandrou 2\, Athens\, 16121\, G
 reece
GEO:37.9734014;23.75139779999995
X-APPLE-STRUCTURED-LOCATION;VALUE=URI;X-ADDRESS=Vassileos Alexandrou 2\, At
 hens\, 16121\, Greece;X-APPLE-RADIUS=100;X-TITLE=Divani Caravel hotel:geo:
 37.9734014,23.75139779999995
END:VEVENT
END:VCALENDAR