BEGIN:VCALENDAR
VERSION:2.0
PRODID:-//wp-events-plugin.com//7.0.5//EN
BEGIN:VEVENT
UID:49@ashrae.gr
DTSTART;TZID=Europe/Athens:20201208T180000
DTEND;TZID=Europe/Athens:20201208T200000
DTSTAMP:20201201T184746Z
URL:https://www.ashrae.gr/REGISTRATION/events/webinar-on-eksoikonomw-ayton
 omw
SUMMARY:Παρουσίαση νέου Χρηματοδοτικού εργα
 λείου "ΕΞΟΙΚΟΝΟΜΩ - ΑΥΤΟΝΟΜΩ 2020"
DESCRIPTION:[su_button url="https://attendee.gotowebinar.com/register/54718
 14584953421838" target="blank" style="glass" background="#0400e8" size="5"
  center="yes"]Register Here[/su_button]\n\nImportant notice: By selecting 
 "Register Here" you will be transfered to the Webinar Registration Page th
 at is NOT controlled and owned by the ASHRAE Hellenic Chapter. The Webinar
  tool is controlled and owned by the ASHRAE.org.
ATTACH;FMTTYPE=image/jpeg:https://www.ashrae.gr/REGISTRATION/wp-content/up
 loads/2020/12/ashrae_hellenic_chapter_webinar5_1.jpg
CATEGORIES:Webinar
END:VEVENT
BEGIN:VTIMEZONE
TZID:Europe/Athens
X-LIC-LOCATION:Europe/Athens
BEGIN:STANDARD
DTSTART:20201025T030000
TZOFFSETFROM:+0300
TZOFFSETTO:+0200
TZNAME:EET
END:STANDARD
END:VTIMEZONE
END:VCALENDAR