BEGIN:VCALENDAR
VERSION:2.0
PRODID:-//wp-events-plugin.com//7.0.5//EN
BEGIN:VEVENT
UID:37@ashrae.gr
DTSTART;TZID=Europe/Athens:20190321T170000
DTEND;TZID=Europe/Athens:20190321T213000
DTSTAMP:20190321T220230Z
URL:https://www.ashrae.gr/REGISTRATION/events/sustainability-in-buildings-
 and-cities
SUMMARY:Sustainability in Buildings and Cities
DESCRIPTION:\n\n[su_box title="Sustainability in Buildings and Cities" styl
 e="soft" box_color="#303175"]We welcome you to our Technical Seminar "Sust
 ainability in Buildings and Cities"! It will take place in Athens at the W
 yndham Grand Athens Hotel on Thursday March 21\, 2019. [/su_box]\n\n[su_n
 ote note_color="#c7ff66"]Download the schedule by pressing the Download bu
 tton.[/su_note][su_button url="https://www.ashrae.gr/REGISTRATION/wp-conte
 nt/uploads/2019/03/TS_20190321_Timetable.pdf" target="blank" style="glass"
 ]Download[/su_button]
LOCATION:Wyndham Grand Athens Hotel\, 2 Megalou Alexandrou Street\, Athens\
 , Greece\, 10437\, Greece
GEO:37.9847978;23.721178699999996
X-APPLE-STRUCTURED-LOCATION;VALUE=URI;X-ADDRESS=2 Megalou Alexandrou Street
 \, Athens\, Greece\, 10437\, Greece;X-APPLE-RADIUS=100;X-TITLE=Wyndham Gra
 nd Athens Hotel:geo:37.9847978,23.721178699999996
END:VEVENT
BEGIN:VTIMEZONE
TZID:Europe/Athens
X-LIC-LOCATION:Europe/Athens
BEGIN:STANDARD
DTSTART:20181028T030000
TZOFFSETFROM:+0300
TZOFFSETTO:+0200
TZNAME:EET
END:STANDARD
END:VTIMEZONE
END:VCALENDAR