BEGIN:VCALENDAR
VERSION:2.0
PRODID:-//wp-events-plugin.com//7.0.5//EN
BEGIN:VEVENT
UID:36@ashrae.gr
DTSTART;TZID=Europe/Athens:20190221T170000
DTEND;TZID=Europe/Athens:20190221T210000
DTSTAMP:20190221T230047Z
URL:https://www.ashrae.gr/REGISTRATION/events/solar-cooling-geothermal-co2
 -applications-and-ashrae-standard-209
SUMMARY:Solar Cooling-Geothermal-CO2 applications and ASHRAE Standard 209
DESCRIPTION:\n\n[su_box title="Solar Cooling\, Geothermal\, CO2 application
 s and ASHRAE Standard 209" style="soft" box_color="#303175"]We welcome you
  to our Technical Seminar "Solar Cooling\, Geothermal\, CO2 applications a
 nd ASHRAE Standard 209"! It will take place in Athens at the Wyndham Gran
 d Athens Hotel on Thursday February 21\, 2019. [/su_box]\n\n[su_note note
 _color="#c7ff66"]Download the schedule by pressing the Download button.[/
 su_note][su_button url="https://www.ashrae.gr/REGISTRATION/wp-content/uplo
 ads/2019/02/TS_20190221_Timetable.pdf" target="blank" style="glass"]Downlo
 ad[/su_button]
LOCATION:Wyndham Grand Athens Hotel\, 2 Megalou Alexandrou Street\, Athens\
 , Greece\, 10437\, Greece
GEO:37.9847978;23.721178699999996
X-APPLE-STRUCTURED-LOCATION;VALUE=URI;X-ADDRESS=2 Megalou Alexandrou Street
 \, Athens\, Greece\, 10437\, Greece;X-APPLE-RADIUS=100;X-TITLE=Wyndham Gra
 nd Athens Hotel:geo:37.9847978,23.721178699999996
END:VEVENT
BEGIN:VTIMEZONE
TZID:Europe/Athens
X-LIC-LOCATION:Europe/Athens
BEGIN:STANDARD
DTSTART:20181028T030000
TZOFFSETFROM:+0300
TZOFFSETTO:+0200
TZNAME:EET
END:STANDARD
END:VTIMEZONE
END:VCALENDAR