BEGIN:VCALENDAR
VERSION:2.0
PRODID:-//wp-events-plugin.com//7.0.5//EN
BEGIN:VEVENT
UID:11@ashrae.gr
DTSTART:20150407T180000Z
DTEND:20150407T210000Z
DTSTAMP:20150407T213221Z
URL:https://www.ashrae.gr/REGISTRATION/events/renewable-energy-and-buildin
 g
SUMMARY:Renewable Energy and Buildings
DESCRIPTION:\n\n[su_box title="Renewable Energy and Building" style="soft" 
 box_color="#303175"]We welcome you to our Technical Conference "Renewable
  Energy and Buildings! It will take place at Athens Ledra Hotel on Tuesday
 \, April 7\, 2015. [/su_box]\n\n&nbsp\;\n\n[su_note note_color="#c7ff66"]
 Download the schedule by pressing the Download button.[/su_note][su_butto
 n url="http://ashrae.gr/REGISTRATION/wp-content/uploads/2015/03/Ekdilosi_E
 llinikou_Parartimatos_ASHRAE_07_04_15.pdf" target="blank" style="glass"]Do
 wnload[/su_button]
LOCATION:Athens Ledra Hotel\, Syngrou Avenue 115\, Athens\, 117 45\, Greece
GEO:37.9573729;23.71822880000002
X-APPLE-STRUCTURED-LOCATION;VALUE=URI;X-ADDRESS=Syngrou Avenue 115\, Athens
 \, 117 45\, Greece;X-APPLE-RADIUS=100;X-TITLE=Athens Ledra Hotel:geo:37.95
 73729,23.71822880000002
END:VEVENT
END:VCALENDAR