BEGIN:VCALENDAR
VERSION:2.0
PRODID:-//wp-events-plugin.com//7.0.5//EN
BEGIN:VEVENT
UID:31@ashrae.gr
DTSTART;TZID=Europe/Athens:20180426T170000
DTEND;TZID=Europe/Athens:20180426T210000
DTSTAMP:20180428T181256Z
URL:https://www.ashrae.gr/REGISTRATION/events/refrigeration-simulation-and
 -lighting
SUMMARY:Refrigeration Simulation and Lighting
DESCRIPTION:\n\n[su_box title="Refrigeration Simulation and Lighting" style
 ="soft" box_color="#303175"]We welcome you to our Technical Seminar "Refri
 geration Simulation and Lighting"! It will take place in Athens at the Wy
 ndham Grand Athens Hotel on Thursday April 26\, 2018. [/su_box]\n\n[su_no
 te note_color="#c7ff66"]Download the schedule by pressing the Download bu
 tton.[/su_note][su_button url="https://ashrae.gr/PDFs/TS_26042018_Timetabl
 e.pdf" target="blank" style="glass"]Download[/su_button]
LOCATION:Wyndham Grand Athens Hotel\, 2 Megalou Alexandrou Street\, Athens\
 , Greece\, 10437\, Greece
GEO:37.9847978;23.721178699999996
X-APPLE-STRUCTURED-LOCATION;VALUE=URI;X-ADDRESS=2 Megalou Alexandrou Street
 \, Athens\, Greece\, 10437\, Greece;X-APPLE-RADIUS=100;X-TITLE=Wyndham Gra
 nd Athens Hotel:geo:37.9847978,23.721178699999996
END:VEVENT
BEGIN:VTIMEZONE
TZID:Europe/Athens
X-LIC-LOCATION:Europe/Athens
BEGIN:DAYLIGHT
DTSTART:20180325T040000
TZOFFSETFROM:+0200
TZOFFSETTO:+0300
TZNAME:EEST
END:DAYLIGHT
END:VTIMEZONE
END:VCALENDAR