BEGIN:VCALENDAR
VERSION:2.0
PRODID:-//wp-events-plugin.com//7.0.5//EN
BEGIN:VEVENT
UID:55@ashrae.gr
DTSTART;TZID=Europe/Athens:20210526T180000
DTEND;TZID=Europe/Athens:20210526T210000
DTSTAMP:20210525T073509Z
URL:https://www.ashrae.gr/REGISTRATION/events/optimizing-hydronic-systems
SUMMARY:Optimizing Hydronic Systems
DESCRIPTION:[su_button url="https://register.gotowebinar.com/register/56439
 48630010521870" target="blank" style="glass" background="#0400e8" size="5"
  center="yes"]Register Here[/su_button]\n\nImportant notice: By selecting 
 "Register Here" you will be transfered to the Webinar Registration Page th
 at is NOT controlled and owned by the ASHRAE Hellenic Chapter. The Webinar
  tool is controlled and owned by the ASHRAE.org.
ATTACH;FMTTYPE=image/jpeg:https://www.ashrae.gr/REGISTRATION/wp-content/up
 loads/2015/03/e-TS20210526_FB.jpg
CATEGORIES:Webinar
END:VEVENT
BEGIN:VTIMEZONE
TZID:Europe/Athens
X-LIC-LOCATION:Europe/Athens
BEGIN:DAYLIGHT
DTSTART:20210328T040000
TZOFFSETFROM:+0200
TZOFFSETTO:+0300
TZNAME:EEST
END:DAYLIGHT
END:VTIMEZONE
END:VCALENDAR