BEGIN:VCALENDAR
VERSION:2.0
PRODID:-//wp-events-plugin.com//7.0.5//EN
BEGIN:VEVENT
UID:43@ashrae.gr
DTSTART:20191212T173000Z
DTEND:20191212T210000Z
DTSTAMP:20200118T153123Z
URL:https://www.ashrae.gr/REGISTRATION/events/nzeb-is-here
SUMMARY:nZEB is HERE
DESCRIPTION:[su_note note_color="#c7ff66"]Download the schedule by pressing
  the Download button.[/su_note][su_button url="https://www.ashrae.gr/REGIS
 TRATION/wp-content/uploads/2016/10/schedule_unavailable.pdf" target="blank
 " style="glass"]Download[/su_button]
ATTACH;FMTTYPE=image/jpeg:https://www.ashrae.gr/REGISTRATION/wp-content/up
 loads/2019/11/NZEB_Banner.jpg
LOCATION:Wyndham Grand Athens Hotel\, 2 Megalou Alexandrou Street\, Athens\
 , Greece\, 10437\, Greece
GEO:37.984798;23.721178
X-APPLE-STRUCTURED-LOCATION;VALUE=URI;X-ADDRESS=2 Megalou Alexandrou Street
 \, Athens\, Greece\, 10437\, Greece;X-APPLE-RADIUS=100;X-TITLE=Wyndham Gra
 nd Athens Hotel:geo:37.984798,23.721178
END:VEVENT
END:VCALENDAR