BEGIN:VCALENDAR
VERSION:2.0
PRODID:-//wp-events-plugin.com//7.0.5//EN
BEGIN:VEVENT
UID:71@ashrae.gr
DTSTART;TZID=Europe/Athens:20241003T170000
DTEND;TZID=Europe/Athens:20241003T213000
DTSTAMP:20241029T072721Z
URL:https://www.ashrae.gr/REGISTRATION/events/leed-training
SUMMARY:LEED TRAINING
DESCRIPTION:[su_note note_color="#c7ff66"]Download the schedule by pressing
  the Download button.[/su_note][su_button url="https://www.ashrae.gr/REGIS
 TRATION/wp-content/uploads/2024/09/2024_09_13_LEED-TRAINING_FINAL-SCHEDULE
 .pdf" target="blank" style="glass"]Download[/su_button]
ATTACH;FMTTYPE=image/jpeg:https://www.ashrae.gr/REGISTRATION/wp-content/up
 loads/2024/08/ashrae_leed_training_registration.jpg
CATEGORIES:Conference
LOCATION:Divani Caravel hotel\, Vassileos Alexandrou 2\, Athens\, 16121\, G
 reece
GEO:37.9734014;23.75139779999995
X-APPLE-STRUCTURED-LOCATION;VALUE=URI;X-ADDRESS=Vassileos Alexandrou 2\, At
 hens\, 16121\, Greece;X-APPLE-RADIUS=100;X-TITLE=Divani Caravel hotel:geo:
 37.9734014,23.75139779999995
END:VEVENT
BEGIN:VTIMEZONE
TZID:Europe/Athens
X-LIC-LOCATION:Europe/Athens
BEGIN:DAYLIGHT
DTSTART:20240331T040000
TZOFFSETFROM:+0200
TZOFFSETTO:+0300
TZNAME:EEST
END:DAYLIGHT
END:VTIMEZONE
END:VCALENDAR