BEGIN:VCALENDAR
VERSION:2.0
PRODID:-//wp-events-plugin.com//7.0.5//EN
BEGIN:VEVENT
UID:18@ashrae.gr
DTSTART:20160604T090000Z
DTEND:20160604T180000Z
DTSTAMP:20160704T201217Z
URL:https://www.ashrae.gr/REGISTRATION/events/international-conference-gre
 en-transportation
SUMMARY:International Conference "GREEN TRANSPORTATION"
DESCRIPTION:&nbsp\;\n\n\n\n[su_box title="International Conference 'GREEN T
 RANSPORTATION"" style="soft" box_color="#303175"]We welcome you to our Int
 ernational Conference "Green Transportation". It will take place at the 
 Technical Chamber of Greece Amphitheater\, Nikis 4 Syntagma\, 1st floor o
 n Saturday\, June 4\, 2016. [/su_box]\n\n[su_note note_color="#c7ff66"]Do
 wnload the schedule by pressing the Download button.[/su_note][su_button 
 url="http://ashrae.gr/REGISTRATION/wp-content/uploads/2016/06/GrT2016-Time
 table.pdf" target="blank" style="glass"]Download[/su_button]
LOCATION:Τμήμα Πληροφορικής και Επικοινωνιώ
 ν Τεχνικού Επιμελητηρίου Ελλάδας\, e-TEE\, Ni
 kis 4\, Athens\, 10563\, Attica\, Greece
GEO:37.9760375;23.733296900000028
X-APPLE-STRUCTURED-LOCATION;VALUE=URI;X-ADDRESS=Nikis 4\, Athens\, 10563\, 
 Attica\, Greece;X-APPLE-RADIUS=100;X-TITLE=Τμήμα Πληροφορικ
 ής και Επικοινωνιών Τεχνικού Επιμελητηρ
 ίου Ελλάδας\, e-TEE:geo:37.9760375,23.733296900000028
END:VEVENT
END:VCALENDAR