BEGIN:VCALENDAR
VERSION:2.0
PRODID:-//wp-events-plugin.com//7.0.5//EN
BEGIN:VEVENT
UID:60@ashrae.gr
DTSTART:20230304T070000Z
DTEND:20230304T163000Z
DTSTAMP:20230307T071815Z
URL:https://www.ashrae.gr/REGISTRATION/events/international-conference-ene
 rgy-in-buildings-crete-2023
SUMMARY:International Conference Energy in Buildings - Crete 2023
DESCRIPTION:&nbsp\;\n\n[su_box title="Energy in Buildings - Crete 2023" sty
 le="soft" box_color="#303175"]We welcome you to our International Conferen
 ce "Energy in Buildings - Crete 2023"! It will take place in Crete at Gala
 xy Hotel\, Heraklion\, on Saturday\, March 4\, 2023. [/su_box]\n\n[su_not
 e note_color="#c7ff66"]Download the schedule by pressing the Download butt
 on.[/su_note][su_button url="https://www.ashrae.gr/REGISTRATION/wp-content
 /uploads/2023/03/EinB-Crete2023_timetable.pdf" target="blank" style="glass
 "]Download[/su_button]\n\n“ENERGY in BUILDINGS” is an International Co
 nference that its been held since 2012.\n\n“ENERGY in BUILDINGS – CRET
 E” will be held for the 1st time in Crete. It brings together Engineers\
 , Architects\, Stakeholders\, Academia and Professionals of different disc
 iplines that contribute and advance the state of art of the built environm
 ent. The Conference will host presentations and workshops of invited speak
 ers.\n\nThere is no conference registration fee.\n\nThe official language 
 of the Conference is English.
ATTACH;FMTTYPE=image/jpeg:https://www.ashrae.gr/REGISTRATION/wp-content/up
 loads/2023/02/EinB_CRETE2023_640x400.jpg
CATEGORIES:International Conferences
LOCATION:Galaxy HoteL Iraklio\, Leof. Dimokratias 75\, Iraklio\, 71306\, Cr
 ete\, Greece
X-APPLE-STRUCTURED-LOCATION;VALUE=URI;X-ADDRESS=Leof. Dimokratias 75\, Irak
 lio\, 71306\, Crete\, Greece;X-APPLE-RADIUS=100;X-TITLE=Galaxy HoteL Irakl
 io:geo:0,0
END:VEVENT
END:VCALENDAR