BEGIN:VCALENDAR
VERSION:2.0
PRODID:-//wp-events-plugin.com//7.0.5//EN
BEGIN:VEVENT
UID:40@ashrae.gr
DTSTART:20190608T090000Z
DTEND:20190608T180000Z
DTSTAMP:20190614T075408Z
URL:https://www.ashrae.gr/REGISTRATION/events/international-conference-ene
 rgy-in-buildings-and-hotels-cyprus
SUMMARY:International Conference "Energy in Buildings and Hotels - Cyprus"
DESCRIPTION:&nbsp\;\n\n\n\n[su_box title="International Conference 'Energy 
 in Buildings and Hotels - Cyprus' " style="soft" box_color="#303175"]We we
 lcome you to our International Conference "Energy in Buildings and Hotels 
 - Cyprus" in Cyprus! It will take place at Atlantica Miramare Hotel\, Lima
 ssol on Saturday\, June 8\, 2019. [/su_box]\n\n[su_note note_color="#c7ff6
 6"]Download the schedule by pressing the Download button.[/su_note][su_bu
 tton url=" " target="blank" style="glass"]Download[/su_button]
CATEGORIES:International Conferences
LOCATION:Atlantica Miramare Hotel\, 11 Amerikanas Str.\, Limassol\, Cyprus
GEO:34.69407;33.08860800000002
X-APPLE-STRUCTURED-LOCATION;VALUE=URI;X-ADDRESS=11 Amerikanas Str.\, Limass
 ol\, Cyprus;X-APPLE-RADIUS=100;X-TITLE=Atlantica Miramare Hotel:geo:34.694
 07,33.08860800000002
END:VEVENT
END:VCALENDAR