BEGIN:VCALENDAR
VERSION:2.0
PRODID:-//wp-events-plugin.com//7.0.5//EN
BEGIN:VEVENT
UID:14@ashrae.gr
DTSTART:20160209T170000Z
DTEND:20160209T200000Z
DTSTAMP:20160304T133346Z
URL:https://www.ashrae.gr/REGISTRATION/events/innovative-artificial-lighti
 ng-and-textile-air-ducts-for-efficiency-and-flexibility
SUMMARY:Innovative Artificial Lighting and Textile Air Ducts for Efficiency
  and Flexibility
DESCRIPTION:\n\n[su_box title="Renewable Energy and Building" style="soft" 
 box_color="#303175"]We welcome you to our Technical Conference "Innovativ
 e Artificial Lighting and Textile Air Ducts for Efficiency and Flexibility
 "! It will take place at Athens Ledra Hotel on Tuesday February 9\, 2016. 
 [/su_box]\n\n&nbsp\;\n\n[su_note note_color="#c7ff66"]Download the schedu
 le by pressing the Download button.[/su_note][su_button url="http://ashrae
 .gr/REGISTRATION/wp-content/uploads/2016/01/Innovative-Artificial-Lighting
 -and-Textile-Air-Ducts-for-Efficiency-and-Flexibility-timetable.pdf" targe
 t="blank" style="glass"]Download[/su_button]
LOCATION:Athens Ledra Hotel\, Syngrou Avenue 115\, Athens\, 117 45\, Greece
GEO:37.9573729;23.71822880000002
X-APPLE-STRUCTURED-LOCATION;VALUE=URI;X-ADDRESS=Syngrou Avenue 115\, Athens
 \, 117 45\, Greece;X-APPLE-RADIUS=100;X-TITLE=Athens Ledra Hotel:geo:37.95
 73729,23.71822880000002
END:VEVENT
END:VCALENDAR