BEGIN:VCALENDAR
VERSION:2.0
PRODID:-//wp-events-plugin.com//7.0.5//EN
BEGIN:VEVENT
UID:46@ashrae.gr
DTSTART:20200212T170000Z
DTEND:20200212T210000Z
DTSTAMP:20200215T201956Z
URL:https://www.ashrae.gr/REGISTRATION/events/green-data-centers
SUMMARY:Green Data Centers
DESCRIPTION:[su_note note_color="#c7ff66"]Download the schedule by pressing
  the Download button.[/su_note][su_button url="https://www.ashrae.gr/REGIS
 TRATION/wp-content/uploads/2016/10/schedule_unavailable.pdf" target="blank
 " style="glass"]Download[/su_button]
ATTACH;FMTTYPE=image/jpeg:https://www.ashrae.gr/REGISTRATION/wp-content/up
 loads/2020/01/Green_Data_Centers.jpg
CATEGORIES:Conference
LOCATION:InterContinental Athenaeum Athens\, Andrea Siggrou 89\, Athens\, A
 ttica\, 117 45\, Greece
X-APPLE-STRUCTURED-LOCATION;VALUE=URI;X-ADDRESS=Andrea Siggrou 89\, Athens\
 , Attica\, 117 45\, Greece;X-APPLE-RADIUS=100;X-TITLE=InterContinental Ath
 enaeum Athens:geo:0,0
END:VEVENT
END:VCALENDAR