BEGIN:VCALENDAR
VERSION:2.0
PRODID:-//wp-events-plugin.com//7.0.5//EN
BEGIN:VEVENT
UID:16@ashrae.gr
DTSTART:20160420T170000Z
DTEND:20160420T200000Z
DTSTAMP:20160420T203223Z
URL:https://www.ashrae.gr/REGISTRATION/events/fundamentals-of-hvac-water-s
 ystem-design-pumps-piping-controls
SUMMARY:Fundamentals of HVAC water system design – pumps\, piping\, contr
 ols
DESCRIPTION:&nbsp\;\n\n\n\n[su_box title="Fundamentals of HVAC water system
  design" style="soft" box_color="#303175"]We welcome you to our Technical
  Conference "Fundamentals of HVAC water system design – pumps\, piping\
 , controls"! It will take place at Athens Ledra Hotel on Wednesday April 
 20\, 2016. [/su_box]\n\n&nbsp\;\n\n[su_note note_color="#c7ff66"]Download 
 the schedule by pressing the Download button.[/su_note][su_button url="ht
 tp://ashrae.gr/REGISTRATION/wp-content/uploads/2016/04/Fundamentals-of-HVA
 C.pdf" target="blank" style="glass"]Download[/su_button]
LOCATION:Athens Ledra Hotel\, Syngrou Avenue 115\, Athens\, 117 45\, Greece
GEO:37.9573729;23.71822880000002
X-APPLE-STRUCTURED-LOCATION;VALUE=URI;X-ADDRESS=Syngrou Avenue 115\, Athens
 \, 117 45\, Greece;X-APPLE-RADIUS=100;X-TITLE=Athens Ledra Hotel:geo:37.95
 73729,23.71822880000002
END:VEVENT
END:VCALENDAR