BEGIN:VCALENDAR
VERSION:2.0
PRODID:-//wp-events-plugin.com//7.0.5//EN
BEGIN:VEVENT
UID:21@ashrae.gr
DTSTART:20170118T170000Z
DTEND:20170118T210000Z
DTSTAMP:20170118T210803Z
URL:https://www.ashrae.gr/REGISTRATION/events/european_regulations_ghg_spe
 cialised-_lighting-_case_studies
SUMMARY:European Regulations on GHG & Specialised Lighting Case Studies
DESCRIPTION:\n\n[su_box title="European Regulations on GHG &amp\; Specialis
 ed Lighting Case Studies" style="soft" box_color="#303175"]We welcome you 
 to our Technical Event "European Regulations on GHG &amp\; Specialised Li
 ghting Case Studies"! It will take place in Athens at the Wyndham Grand A
 thens Hotel on Wednesday January 18\, 2017. [/su_box]\n\n[su_note note_co
 lor="#c7ff66"]Download the schedule by pressing the Download button.[/su_
 note][su_button url="http://www.ashrae.gr/PDFs/TS_20170118_Timetable.pdf" 
 target="blank" style="glass"]Download[/su_button]
LOCATION:Wyndham Grand Athens Hotel\, 2 Megalou Alexandrou Street\, Athens\
 , Greece\, 10437\, Greece
GEO:37.9847978;23.721178699999996
X-APPLE-STRUCTURED-LOCATION;VALUE=URI;X-ADDRESS=2 Megalou Alexandrou Street
 \, Athens\, Greece\, 10437\, Greece;X-APPLE-RADIUS=100;X-TITLE=Wyndham Gra
 nd Athens Hotel:geo:37.9847978,23.721178699999996
END:VEVENT
END:VCALENDAR