BEGIN:VCALENDAR
VERSION:2.0
PRODID:-//wp-events-plugin.com//7.0.5//EN
BEGIN:VEVENT
UID:29@ashrae.gr
DTSTART:20171219T170000Z
DTEND:20171219T213000Z
DTSTAMP:20171220T161012Z
URL:https://www.ashrae.gr/REGISTRATION/events/european-erp-2018-directive-
 revised-totee-kenak-2017
SUMMARY:European ERP 2018 Directive & Revised TOTEE–KENAK 2017
DESCRIPTION:\n\n[su_box title="European ERP 2018 Directive &amp\; Revised T
 OTEE – KENAK 2017" style="soft" box_color="#303175"]We welcome you to ou
 r Technical Seminar "European ERP 2018 Directive &amp\; Revised TOTEE – 
 KENAK 2017"! It will take place in Athens at the Wyndham Grand Athens Hot
 el on Tuesday December 19\, 2017. [/su_box]\n\n[su_note note_color="#c7ff
 66"]Download the schedule by pressing the Download button.[/su_note][su_b
 utton url="https://www.ashrae.gr/PDFs/TS_19122017_Timetable_EN.pdf" target
 ="blank" style="glass"]Download[/su_button]
LOCATION:Wyndham Grand Athens Hotel\, 2 Megalou Alexandrou Street\, Athens\
 , Greece\, 10437\, Greece
GEO:37.9847978;23.721178699999996
X-APPLE-STRUCTURED-LOCATION;VALUE=URI;X-ADDRESS=2 Megalou Alexandrou Street
 \, Athens\, Greece\, 10437\, Greece;X-APPLE-RADIUS=100;X-TITLE=Wyndham Gra
 nd Athens Hotel:geo:37.9847978,23.721178699999996
END:VEVENT
END:VCALENDAR