BEGIN:VCALENDAR
VERSION:2.0
PRODID:-//wp-events-plugin.com//7.0.5//EN
BEGIN:VEVENT
UID:10@ashrae.gr
DTSTART:20150522T090000Z
DTEND:20150524T220000Z
DTSTAMP:20150614T133507Z
URL:https://www.ashrae.gr/REGISTRATION/events/environment-and-energy-in-sh
 ips-2
SUMMARY:International Conference onEnvironment and Energy in Ships
DESCRIPTION:&nbsp\;\n\n\n\n&nbsp\;\n[su_box title="Ticketing" style="soft" 
 box_color="#303175"]Your Ticketing is nearly finished! Please Finish you
 r Event Registration by clicking the "BOOK now" button below.\nNOTE: You w
 ill receive two (2) emails:\n1. One email for your reservation\n2. A seco
 nd email as soon as your Ticketing payment is confirmed with your Ticket\n
 In case you do not receive either of those two emails please contact us. T
 hank you![/su_box]
CATEGORIES:International Conferences
LOCATION:Attica\, Piraeus\, Piraeus\, Greece
GEO:37.9429857;23.646983200000022
X-APPLE-STRUCTURED-LOCATION;VALUE=URI;X-ADDRESS=Piraeus\, Piraeus\, Greece;
 X-APPLE-RADIUS=100;X-TITLE=Attica:geo:37.9429857,23.646983200000022
END:VEVENT
END:VCALENDAR