BEGIN:VCALENDAR
VERSION:2.0
PRODID:-//wp-events-plugin.com//7.0.5//EN
BEGIN:VEVENT
UID:22@ashrae.gr
DTSTART:20170215T170000Z
DTEND:20170215T210000Z
DTSTAMP:20170215T203502Z
URL:https://www.ashrae.gr/REGISTRATION/events/engineering_challenges_in_th
 e_snfcc
SUMMARY:STAVROS NIARCHOS FOUNDATION CULTURAL CENTER Engineering Challenges 
 in the SNFCC Construction
DESCRIPTION:\n\n[su_box title="STAVROS NIARCHOS FOUNDATION CULTURAL CENTER 
 - Engineering Challenges in the SNFCC Construction" style="soft" box_color
 ="#303175"]We welcome you to our Technical Seminar "STAVROS NIARCHOS FOUN
 DATION CULTURAL CENTER - Engineering Challenges in the SNFCC Construction"
 ! It will take place in Athens at the Wyndham Grand Athens Hotel on Wedn
 esday February 15\, 2017. [/su_box]\n\n[su_note note_color="#c7ff66"]Down
 load the schedule by pressing the Download button.[/su_note][su_button ur
 l="http://www.ashrae.gr/PDFs/TS_20170215_Timetable.pdf" target="blank" sty
 le="glass"]Download[/su_button]
LOCATION:Wyndham Grand Athens Hotel\, 2 Megalou Alexandrou Street\, Athens\
 , Greece\, 10437\, Greece
GEO:37.9847978;23.721178699999996
X-APPLE-STRUCTURED-LOCATION;VALUE=URI;X-ADDRESS=2 Megalou Alexandrou Street
 \, Athens\, Greece\, 10437\, Greece;X-APPLE-RADIUS=100;X-TITLE=Wyndham Gra
 nd Athens Hotel:geo:37.9847978,23.721178699999996
END:VEVENT
END:VCALENDAR