BEGIN:VCALENDAR
VERSION:2.0
PRODID:-//wp-events-plugin.com//7.0.5//EN
BEGIN:VEVENT
UID:30@ashrae.gr
DTSTART:20180328T170000Z
DTEND:20180328T213000Z
DTSTAMP:20180401T183642Z
URL:https://www.ashrae.gr/REGISTRATION/events/energyplus-doe-new-generatio
 n-building-energy-simulation-program
SUMMARY:EnergyPlus\, DOE's New Generation Building Energy Simulation Progra
 m
DESCRIPTION:\n\n[su_box title="EnergyPlus\, DOE's New Generation Building E
 nergy Simulation Program" style="soft" box_color="#303175"]We welcome you 
 to our Technical Seminar "EnergyPlus\, DOE's New Generation Building Energ
 y Simulation Program"! It will take place in Athens at the Wyndham Grand 
 Athens Hotel on Wednesday March 28\, 2018. [/su_box]\n\n[su_note note_col
 or="#c7ff66"]Download the schedule by pressing the Download button.[/su_n
 ote][su_button url="https://ashrae.gr/PDFs/TS_20180328_Timetable.pdf" targ
 et="blank" style="glass"]Download[/su_button]
LOCATION:Wyndham Grand Athens Hotel\, 2 Megalou Alexandrou Street\, Athens\
 , Greece\, 10437\, Greece
GEO:37.9847978;23.721178699999996
X-APPLE-STRUCTURED-LOCATION;VALUE=URI;X-ADDRESS=2 Megalou Alexandrou Street
 \, Athens\, Greece\, 10437\, Greece;X-APPLE-RADIUS=100;X-TITLE=Wyndham Gra
 nd Athens Hotel:geo:37.9847978,23.721178699999996
END:VEVENT
END:VCALENDAR