BEGIN:VCALENDAR
VERSION:2.0
PRODID:-//wp-events-plugin.com//7.0.5//EN
BEGIN:VEVENT
UID:20@ashrae.gr
DTSTART:20161112T090000Z
DTEND:20161112T190000Z
DTSTAMP:20161112T202716Z
URL:https://www.ashrae.gr/REGISTRATION/events/energy-in-buildings-transpor
 tation2016
SUMMARY:Energy in Buildings and Energy in Transportation 2016
DESCRIPTION:\n\n&nbsp\;\n\n[su_box title="Energy in Buildings 2016 and Ener
 gy in Transportation 2016" style="soft" box_color="#303175"]We welcome you
  to our International Conferences "Energy in Buildings 2016" and "Energy 
 in Transportation 2016"! They will take place in Athens at Athinais Cultu
 ral Centre on Saturday\, November 12\, 2016. [/su_box]\n\n[su_note note_c
 olor="#c7ff66"]Download the schedule by pressing the Download button.[/su
 _note][su_button url="http://ashrae.gr/REGISTRATION/wp-content/uploads/201
 6/11/EinB_EinT2016_Timetable.pdf" target="blank" style="glass"]Download[/s
 u_button]
CATEGORIES:International Conferences
LOCATION:Athinais Cultural Center\, 34\, Kastorias st\, Athens\, Greece
GEO:37.9833232;23.710841200000004
X-APPLE-STRUCTURED-LOCATION;VALUE=URI;X-ADDRESS=34\, Kastorias st\, Athens\
 , Greece;X-APPLE-RADIUS=100;X-TITLE=Athinais Cultural Center:geo:37.983323
 2,23.710841200000004
END:VEVENT
END:VCALENDAR