BEGIN:VCALENDAR
VERSION:2.0
PRODID:-//wp-events-plugin.com//7.0.5//EN
BEGIN:VEVENT
UID:73@ashrae.gr
DTSTART:20250222T090000Z
DTEND:20250222T180000Z
DTSTAMP:20250305T065948Z
URL:https://www.ashrae.gr/REGISTRATION/events/energy-in-buildings-northern
 -hellas-2025
SUMMARY:Energy in Buildings Northern Hellas 2025
DESCRIPTION:[su_box title="Energy in Buildings Northern Hellas 2025" style=
 "soft" box_color="#303175"]We welcome you to our International Conference 
 "Energy in Buildings Northern Hellas 2025"! It will take place in Grand Ho
 tel Palace Thessaloniki on Saturday 22 February\, 2025. [/su_box]\n\n[su_n
 ote note_color="#c7ff66"]Download the schedule by pressing the Download bu
 tton.[/su_note][su_button url="https://www.ashrae.gr/REGISTRATION/wp-conte
 nt/uploads/2025/02/EiB-Thessaloniki-2025.pdf" target="blank" style="glass"
 ]Download[/su_button]
ATTACH;FMTTYPE=image/jpeg:https://www.ashrae.gr/REGISTRATION/wp-content/up
 loads/2025/01/EinB_NH2025_750x500_small.jpg
CATEGORIES:International Conferences
LOCATION:Grand Hotel Palace Thessaloniki\, Monastiriou 305\, Thessaloniki\,
  Greece\, 54628\, Greece
X-APPLE-STRUCTURED-LOCATION;VALUE=URI;X-ADDRESS=Monastiriou 305\, Thessalon
 iki\, Greece\, 54628\, Greece;X-APPLE-RADIUS=100;X-TITLE=Grand Hotel Palac
 e Thessaloniki:geo:0,0
END:VEVENT
END:VCALENDAR