BEGIN:VCALENDAR
VERSION:2.0
PRODID:-//wp-events-plugin.com//7.0.5//EN
BEGIN:VEVENT
UID:68@ashrae.gr
DTSTART:20240217T090000Z
DTEND:20240217T180000Z
DTSTAMP:20240501T122649Z
URL:https://www.ashrae.gr/REGISTRATION/events/energy-in-buildings-northern
 -hellas-2024
SUMMARY:Energy in Buildings Northern Hellas 2024
DESCRIPTION:[su_box title="Energy in Buildings Northern Hellas 2024" style=
 "soft" box_color="#303175"]We welcome you to our International Conference 
 "Energy in Buildings Northern Hellas 2024"! It will take place in Hotel Ni
 kopolis Thessaloniki on Saturday 17 February\, 2024. [/su_box]\n\n[su_note
  note_color="#c7ff66"]Download the schedule by pressing the Download butto
 n.[/su_note][su_button url="https://www.ashrae.gr/REGISTRATION/wp-content/
 uploads/2024/02/EiB-Thessaloniki-2024-Schedule.V2.pdf" target="blank" styl
 e="glass"]Download[/su_button]
ATTACH;FMTTYPE=image/jpeg:https://www.ashrae.gr/REGISTRATION/wp-content/up
 loads/2023/12/EinB_NH2024_sp-750x500-1.jpg
CATEGORIES:International Conferences
LOCATION:Hotel Nikopolis Thessaloniki\, Asklipiou 16-18\, Thermi\, Thessalo
 niki\, 555 35\, Greece
X-APPLE-STRUCTURED-LOCATION;VALUE=URI;X-ADDRESS=Asklipiou 16-18\, Thermi\, 
 Thessaloniki\, 555 35\, Greece;X-APPLE-RADIUS=100;X-TITLE=Hotel Nikopolis 
 Thessaloniki:geo:0,0
END:VEVENT
END:VCALENDAR