BEGIN:VCALENDAR
VERSION:2.0
PRODID:-//wp-events-plugin.com//7.0.5//EN
BEGIN:VEVENT
UID:47@ashrae.gr
DTSTART:20200228T090000Z
DTEND:20200228T210000Z
DTSTAMP:20200229T091504Z
URL:https://www.ashrae.gr/REGISTRATION/events/energy-in-buildings-northern
 -hellas-2020
SUMMARY:Energy in Buildings Northern Hellas 2020
DESCRIPTION:[su_note note_color="#c7ff66"]Download the schedule by pressing
  the Download button.[/su_note][su_button url="https://www.ashrae.gr/REGIS
 TRATION/wp-content/uploads/2016/10/schedule_unavailable.pdf" target="blank
 " style="glass"]Download[/su_button]
ATTACH;FMTTYPE=image/jpeg:https://www.ashrae.gr/REGISTRATION/wp-content/up
 loads/2020/02/EinB_NH_2020_Save_The_Date_ok.jpg
CATEGORIES:International Conferences
LOCATION:Makedonia Palace Hotel\, Leof. Meg. Alexandrou 2\, Thessaloniki\, 
 546 40\, Greece
X-APPLE-STRUCTURED-LOCATION;VALUE=URI;X-ADDRESS=Leof. Meg. Alexandrou 2\, T
 hessaloniki\, 546 40\, Greece;X-APPLE-RADIUS=100;X-TITLE=Makedonia Palace 
 Hotel:geo:0,0
END:VEVENT
END:VCALENDAR