BEGIN:VCALENDAR
VERSION:2.0
PRODID:-//wp-events-plugin.com//7.0.5//EN
BEGIN:VEVENT
UID:76@ashrae.gr
DTSTART;TZID=Europe/Athens:20250531T090000
DTEND;TZID=Europe/Athens:20250531T170000
DTSTAMP:20250414T104522Z
URL:https://www.ashrae.gr/REGISTRATION/events/energy-in-buildings-epirus-2
 025
SUMMARY:Energy in Buildings Epirus 2025
DESCRIPTION:[su_box title="Energy in Buildings Epirus 2025" style="soft" bo
 x_color="#303175"]We welcome you to our International Conference "Energy i
 n Buildings Epirus 2025"! It will take place in Du Lac Hotel\, Ioannina\, 
 Epirus on Saturday May 31\, 2025. [/su_box]\n\n[su_note note_color="#c7ff6
 6"]Download the schedule by pressing the Download button.[/su_note][su_but
 ton url="#" target="blank" style="glass"]Download[/su_button]
ATTACH;FMTTYPE=image/jpeg:https://www.ashrae.gr/REGISTRATION/wp-content/up
 loads/2025/04/EinB_EPIRUS2025_750x500.jpg
CATEGORIES:International Conferences
LOCATION:Du Lac Congress Center & Spa\, K. Papoulia &amp\; Ikkou\, Ioannina
 \, Greece\, 452 21\, Epirus\, Greece
X-APPLE-STRUCTURED-LOCATION;VALUE=URI;X-ADDRESS=K. Papoulia & Ikkou\, Ioann
 ina\, Greece\, 452 21\, Epirus\, Greece;X-APPLE-RADIUS=100;X-TITLE=Du Lac 
 Congress Center & Spa:geo:0,0
END:VEVENT
BEGIN:VTIMEZONE
TZID:Europe/Athens
X-LIC-LOCATION:Europe/Athens
BEGIN:DAYLIGHT
DTSTART:20250330T040000
TZOFFSETFROM:+0200
TZOFFSETTO:+0300
TZNAME:EEST
END:DAYLIGHT
END:VTIMEZONE
END:VCALENDAR