BEGIN:VCALENDAR
VERSION:2.0
PRODID:-//wp-events-plugin.com//7.0.5//EN
BEGIN:VEVENT
UID:67@ashrae.gr
DTSTART:20231125T090000Z
DTEND:20231125T160000Z
DTSTAMP:20240501T122725Z
URL:https://www.ashrae.gr/REGISTRATION/events/energy-in-buildings-epirus-2
 023
SUMMARY:Energy in Buildings Epirus 2023
DESCRIPTION:[su_box title="Energy in Buildings Athens 2023" style="soft" bo
 x_color="#303175"]We welcome you to our International Conference "Energy i
 n Buildings Epirus 2023"! It will take place in Du Lac Congress Center &am
 p\; Spa Hotel on Saturday 25 November\, 2023. [/su_box]\n\n[su_note note_c
 olor="#c7ff66"]Download the schedule by pressing the Download button.[/su_
 note][su_button url="https://www.ashrae.gr/REGISTRATION/wp-content/uploads
 /2023/11/EinB2023_EPIRUS_Schedule2.pdf" target="blank" style="glass"]Downl
 oad[/su_button]
ATTACH;FMTTYPE=image/jpeg:https://www.ashrae.gr/REGISTRATION/wp-content/up
 loads/2023/11/EinB_EPIRUS2023_750x500.jpg
CATEGORIES:International Conferences
LOCATION:Du Lac Congress Center & Spa\, K. Papoulia &amp\; Ikkou\, Ioannina
 \, Greece\, 452 21\, Epirus\, Greece
X-APPLE-STRUCTURED-LOCATION;VALUE=URI;X-ADDRESS=K. Papoulia & Ikkou\, Ioann
 ina\, Greece\, 452 21\, Epirus\, Greece;X-APPLE-RADIUS=100;X-TITLE=Du Lac 
 Congress Center & Spa:geo:0,0
END:VEVENT
END:VCALENDAR