BEGIN:VCALENDAR
VERSION:2.0
PRODID:-//wp-events-plugin.com//7.0.5//EN
BEGIN:VEVENT
UID:72@ashrae.gr
DTSTART;TZID=Europe/Athens:20241122T083000
DTEND;TZID=Europe/Athens:20241123T180000
DTSTAMP:20250305T065847Z
URL:https://www.ashrae.gr/REGISTRATION/events/energy-in-buildings-emea-202
 4
SUMMARY:ENERGY in BUILDINGS EMEA 2024
DESCRIPTION:[su_note note_color="#c7ff66"]Download the schedule by pressing
  the Download button.[/su_note][su_button url="https://www.ashrae.gr/EinB2
 024/EinB2024_Timetable.pdf" target="blank" style="glass"]Download[/su_butt
 on]
ATTACH;FMTTYPE=image/jpeg:https://www.ashrae.gr/REGISTRATION/wp-content/up
 loads/2024/10/EinB_EMEA-2024_750x500.jpg
CATEGORIES:International Conferences
LOCATION:Grand Hyatt Athens Hotel\, Λεωφόρος Ανδρέα Συγγ
 ρού 115\, Αθήνα\, 117 45\, Αττική\, Greece
X-APPLE-STRUCTURED-LOCATION;VALUE=URI;X-ADDRESS=Λεωφόρος Ανδρέ
 α Συγγρού 115\, Αθήνα\, 117 45\, Αττική\, Greece;X-APPL
 E-RADIUS=100;X-TITLE=Grand Hyatt Athens Hotel:geo:0,0
END:VEVENT
BEGIN:VTIMEZONE
TZID:Europe/Athens
X-LIC-LOCATION:Europe/Athens
BEGIN:STANDARD
DTSTART:20241027T030000
TZOFFSETFROM:+0300
TZOFFSETTO:+0200
TZNAME:EET
END:STANDARD
END:VTIMEZONE
END:VCALENDAR