BEGIN:VCALENDAR
VERSION:2.0
PRODID:-//wp-events-plugin.com//7.0.5//EN
BEGIN:VEVENT
UID:75@ashrae.gr
DTSTART:20250308T090000Z
DTEND:20250308T183000Z
DTSTAMP:20250305T072208Z
URL:https://www.ashrae.gr/REGISTRATION/events/energy-in-buildings-crete-20
 25
SUMMARY:Energy in Buildings Crete 2025
DESCRIPTION:[su_box title="Energy in Buildings Crete 2025" style="soft" box
 _color="#303175"]We welcome you to our International Conference "Energy in
  Buildings Crete 2025"! It will take place in Aquila Atlantis Hotel\, Hera
 klion\, Crete on Saturday March 8\, 2025. [/su_box]\n\n[su_note note_color
 ="#c7ff66"]Download the schedule by pressing the Download button.[/su_note
 ][su_button url="https://www.ashrae.gr/REGISTRATION/wp-content/uploads/202
 5/03/ASHRAE_Energy_in_Buildings_Crete_2025_Shedule.pdf" target="blank" sty
 le="glass"]Download[/su_button]
ATTACH;FMTTYPE=image/jpeg:https://www.ashrae.gr/REGISTRATION/wp-content/up
 loads/2025/01/EinB_CRETE2025_750x500_small.jpg
CATEGORIES:International Conferences
LOCATION:Aquila Atlantis Hotel\, Ygeias 2\, Heraklion\, 712 02\, Crete\, Gr
 eece
X-APPLE-STRUCTURED-LOCATION;VALUE=URI;X-ADDRESS=Ygeias 2\, Heraklion\, 712 
 02\, Crete\, Greece;X-APPLE-RADIUS=100;X-TITLE=Aquila Atlantis Hotel:geo:0
 ,0
END:VEVENT
END:VCALENDAR