BEGIN:VCALENDAR
VERSION:2.0
PRODID:-//wp-events-plugin.com//7.0.5//EN
BEGIN:VEVENT
UID:69@ashrae.gr
DTSTART:20240420T090000Z
DTEND:20240420T183000Z
DTSTAMP:20240501T122615Z
URL:https://www.ashrae.gr/REGISTRATION/events/energy-in-buildings-crete-20
 24
SUMMARY:Energy in Buildings Crete 2024
DESCRIPTION:[su_box title="Energy in Buildings Crete 2024" style="soft" box
 _color="#303175"]We welcome you to our International Conference "Energy in
  Buildings Crete 2024"! It will take place in Aquila Atlantis Hotel\, Hera
 klion\, Crete on Saturday 20 April\, 2024. [/su_box]\n\n[su_note note_colo
 r="#c7ff66"]Download the schedule by pressing the Download button.[/su_not
 e][su_button url="#" target="blank" style="glass"]Download[/su_button]
ATTACH;FMTTYPE=image/jpeg:https://www.ashrae.gr/REGISTRATION/wp-content/up
 loads/2024/03/EinB-Crete-2024.jpeg
CATEGORIES:International Conferences
LOCATION:Aquila Atlantis Hotel\, Ygeias 2\, Heraklion\, 712 02\, Crete\, Gr
 eece
X-APPLE-STRUCTURED-LOCATION;VALUE=URI;X-ADDRESS=Ygeias 2\, Heraklion\, 712 
 02\, Crete\, Greece;X-APPLE-RADIUS=100;X-TITLE=Aquila Atlantis Hotel:geo:0
 ,0
END:VEVENT
END:VCALENDAR