BEGIN:VCALENDAR
VERSION:2.0
PRODID:-//wp-events-plugin.com//7.0.5//EN
BEGIN:VEVENT
UID:66@ashrae.gr
DTSTART:20231111T090000Z
DTEND:20231111T180000Z
DTSTAMP:20231113T104318Z
URL:https://www.ashrae.gr/REGISTRATION/events/energy-in-buildings-athens-2
 023
SUMMARY:Energy in Buildings Athens 2023
DESCRIPTION:[su_box title="Energy in Buildings Athens 2023" style="soft" bo
 x_color="#303175"]We welcome you to our International Conference "Energy i
 n Buildings Athens 2023"! It will take place in Grand Hayat ATHENS Hotel o
 n Saturday 11 November\, 2023. [/su_box]\n\n[su_note note_color="#c7ff66"]
 Download the schedule by pressing the Download button.[/su_note][su_button
  url="https://www.ashrae.gr/REGISTRATION/wp-content/uploads/2023/11/EinB20
 23_Schedule5.pdf" target="blank" style="glass"]Download[/su_button]
ATTACH;FMTTYPE=image/jpeg:https://www.ashrae.gr/REGISTRATION/wp-content/up
 loads/2023/10/EinB_ATHENS2023_750x500-1.jpg
CATEGORIES:International Conferences
LOCATION:Grand Hyatt Athens Hotel\, Λεωφόρος Ανδρέα Συγγ
 ρού 115\, Αθήνα\, 117 45\, Αττική\, Greece
X-APPLE-STRUCTURED-LOCATION;VALUE=URI;X-ADDRESS=Λεωφόρος Ανδρέ
 α Συγγρού 115\, Αθήνα\, 117 45\, Αττική\, Greece;X-APPL
 E-RADIUS=100;X-TITLE=Grand Hyatt Athens Hotel:geo:0,0
END:VEVENT
END:VCALENDAR