BEGIN:VCALENDAR
VERSION:2.0
PRODID:-//wp-events-plugin.com//7.0.5//EN
BEGIN:VEVENT
UID:41@ashrae.gr
DTSTART:20190928T090000Z
DTEND:20190928T190000Z
DTSTAMP:20200118T154041Z
URL:https://www.ashrae.gr/REGISTRATION/events/energy-in-buildings-and-ener
 gy-in-transportation-2019
SUMMARY:Energy in Buildings and Energy in Transportation 2019
DESCRIPTION:\n\n[su_box title="Energy in Buildings 2019 and Energy in Trans
 portation 2019" style="soft" box_color="#303175"]We welcome you to our Int
 ernational Conferences "Energy in Buildings 2019" and "Energy in Transport
 ation 2019"! They will take place in Athens at Wyndham Grand Athens Hotel 
 on Saturday\, September 28\, 2019. [/su_box]\n\n[su_note note_color="#c7ff
 66"]Download the schedule by pressing the Download button.[/su_note][su_bu
 tton url="https://www.ashrae.gr/REGISTRATION/wp-content/uploads/2016/10/sc
 hedule_unavailable.pdf" target="blank" style="glass"]Download[/su_button]
CATEGORIES:International Conferences
LOCATION:Wyndham Grand Athens Hotel\, 2 Megalou Alexandrou Street\, Athens\
 , Greece\, 10437\, Greece
GEO:37.9847978;23.721178699999996
X-APPLE-STRUCTURED-LOCATION;VALUE=URI;X-ADDRESS=2 Megalou Alexandrou Street
 \, Athens\, Greece\, 10437\, Greece;X-APPLE-RADIUS=100;X-TITLE=Wyndham Gra
 nd Athens Hotel:geo:37.9847978,23.721178699999996
END:VEVENT
END:VCALENDAR