BEGIN:VCALENDAR
VERSION:2.0
PRODID:-//wp-events-plugin.com//7.0.5//EN
BEGIN:VEVENT
UID:34@ashrae.gr
DTSTART:20181103T090000Z
DTEND:20181103T190000Z
DTSTAMP:20181103T195019Z
URL:https://www.ashrae.gr/REGISTRATION/events/energy-in-buildings-and-ener
 gy-in-transportation-2018
SUMMARY:Energy in Buildings and Energy in Transportation 2018
DESCRIPTION:\n\n[su_box title="Energy in Buildings 2018 and Energy in Trans
 portation 2018" style="soft" box_color="#303175"]We welcome you to our Int
 ernational Conferences "Energy in Buildings 2018" and "Energy in Transpor
 tation 2018"! They will take place in Athens at Wyndham Grand Athens Hot
 el on Saturday\, November 3\, 2018. [/su_box]\n\n[su_note note_color="#c7f
 f66"]Download the schedule by pressing the Download button.[/su_note][su_
 button url="https://www.ashrae.gr/REGISTRATION/wp-content/uploads/2018/10/
 EinB_EinT_2018_Timetable.pdf" target="blank" style="glass"]Download[/su_bu
 tton]
CATEGORIES:International Conferences
LOCATION:Wyndham Grand Athens Hotel\, 2 Megalou Alexandrou Street\, Athens\
 , Greece\, 10437\, Greece
GEO:37.9847978;23.721178699999996
X-APPLE-STRUCTURED-LOCATION;VALUE=URI;X-ADDRESS=2 Megalou Alexandrou Street
 \, Athens\, Greece\, 10437\, Greece;X-APPLE-RADIUS=100;X-TITLE=Wyndham Gra
 nd Athens Hotel:geo:37.9847978,23.721178699999996
END:VEVENT
END:VCALENDAR