BEGIN:VCALENDAR
VERSION:2.0
PRODID:-//wp-events-plugin.com//7.0.5//EN
BEGIN:VEVENT
UID:28@ashrae.gr
DTSTART:20171021T090000Z
DTEND:20171021T190000Z
DTSTAMP:20171021T172428Z
URL:https://www.ashrae.gr/REGISTRATION/events/energy-in-buildings-and-ener
 gy-in-transportation-2017
SUMMARY:Energy in Buildings and Energy in Transportation 2017
DESCRIPTION:\n\n&nbsp\;\n\n[su_box title="Energy in Buildings 2017 and Ener
 gy in Transportation 2017" style="soft" box_color="#303175"]We welcome you
  to our International Conferences "Energy in Buildings 2017" and "Energy 
 in Transportation 2017"! They will take place in Athens at Athinais Cultu
 ral Centre on Saturday\, October 21\, 2017. [/su_box]\n\n[su_note note_col
 or="#c7ff66"]Download the schedule by pressing the Download button.[/su_n
 ote][su_button url="https://www.ashrae.gr/REGISTRATION/wp-content/uploads/
 2017/10/EinB_EinT_2017_Timetable.pdf" target="blank" style="glass"]Downloa
 d[/su_button]
CATEGORIES:International Conferences
LOCATION:Wyndham Grand Athens Hotel\, 2 Megalou Alexandrou Street\, Athens\
 , Greece\, 10437\, Greece
GEO:37.9847978;23.721178699999996
X-APPLE-STRUCTURED-LOCATION;VALUE=URI;X-ADDRESS=2 Megalou Alexandrou Street
 \, Athens\, Greece\, 10437\, Greece;X-APPLE-RADIUS=100;X-TITLE=Wyndham Gra
 nd Athens Hotel:geo:37.9847978,23.721178699999996
END:VEVENT
END:VCALENDAR