BEGIN:VCALENDAR
VERSION:2.0
PRODID:-//wp-events-plugin.com//7.0.5//EN
BEGIN:VEVENT
UID:59@ashrae.gr
DTSTART:20221210T060000Z
DTEND:20221210T163000Z
DTSTAMP:20221210T181934Z
URL:https://www.ashrae.gr/REGISTRATION/events/energy-in-buildings-2022
SUMMARY:Energy in Buildings 2022
DESCRIPTION:&nbsp\;\n\n[su_box title="Energy in Buildings 2022" style="soft
 " box_color="#303175"]We welcome you to our International Conference "Ener
 gy in Buildings 2022"! It will take place in Athens at Wyndham Grand Athen
 s Hotel on Saturday\, December 10\, 2022. [/su_box]\n\n[su_note note_color
 ="#c7ff66"]Download the schedule by pressing the Download button.[/su_note
 ][su_button url="https://www.ashrae.gr/REGISTRATION/wp-content/uploads/202
 2/12/EinB2022_Timetable_v2.pdf" target="blank" style="glass"]Download[/su_
 button]\n\nCareer Day\n\nFor the first time ASHRAE Hellenic Chapter organi
 zes the CARΕER DAY EVENT\n\nThis Saturday 10.12.2022 in Wyndham Grand Hot
 el a career day is organized that gives the opportunity to Professionals a
 nd Graduate Students to get informed about companies in the Technical Fiel
 d who are in Hiring Process.\n\nCARΕER Day will be held as a parallel act
 ivity of ENERGY in BUILDINGS 2022 Conference.\n\nThere will be corporate p
 resentations from companies in Recruiting Process\, with the following sch
 edule:\n\nHall: Syndicate 3\n\nTimetable Company\n14:30 – 14:45 JEPA\n14
 :45 – 15:00 Thermogaz\n15:00 – 15:15 Trane Hellas\n15:15 – 15:30 Car
 rier\n15:30 – 15:45 Calda\n15:45 – 16:00 Wilo\n16:00 – 16:15 MITSUBI
 SHI ELECTRIC\n\n[su_note note_color="#c7ff66"]Download Carrier Day schedul
 e by pressing the Download button.[/su_note][su_button url="https://www.as
 hrae.gr/REGISTRATION/wp-content/uploads/2022/12/career-day_EinB2022.pdf" t
 arget="blank" style="glass"]Download[/su_button]
ATTACH;FMTTYPE=image/jpeg:https://www.ashrae.gr/REGISTRATION/wp-content/up
 loads/2022/11/EinB22_web.jpg
CATEGORIES:International Conferences
LOCATION:Wyndham Grand Athens Hotel\, 2 Megalou Alexandrou Street\, Athens\
 , Greece\, 10437\, Greece
GEO:37.9847978;23.721178699999996
X-APPLE-STRUCTURED-LOCATION;VALUE=URI;X-ADDRESS=2 Megalou Alexandrou Street
 \, Athens\, Greece\, 10437\, Greece;X-APPLE-RADIUS=100;X-TITLE=Wyndham Gra
 nd Athens Hotel:geo:37.9847978,23.721178699999996
END:VEVENT
END:VCALENDAR