BEGIN:VCALENDAR
VERSION:2.0
PRODID:-//wp-events-plugin.com//7.0.5//EN
BEGIN:VEVENT
UID:12@ashrae.gr
DTSTART:20151031T090000Z
DTEND:20151031T190000Z
DTSTAMP:20151101T124826Z
URL:https://www.ashrae.gr/REGISTRATION/events/energy-in-buildings-2015
SUMMARY:Energy in Buildings 2015
DESCRIPTION:\n\n&nbsp\;\n\n[su_box title="Energy in Buildings 2015" style="
 soft" box_color="#303175"]We welcome you to our International Conference 
 "Energy in Buildings 2015"! It will take place in Athens at Athens Ledra H
 otel on Saturday\, October 31\, 2015. [/su_box]\n\n[su_note note_color="#
 c7ff66"]Download the schedule by pressing the Download button.[/su_note][
 su_button url="http://ashrae.gr/REGISTRATION/wp-content/uploads/2015/10/Ei
 nB_2015_Timetable.pdf" target="blank" style="glass"]Download[/su_button]
CATEGORIES:International Conferences
LOCATION:Athens Ledra Hotel\, Syngrou Avenue 115\, Athens\, 117 45\, Greece
GEO:37.9573729;23.71822880000002
X-APPLE-STRUCTURED-LOCATION;VALUE=URI;X-ADDRESS=Syngrou Avenue 115\, Athens
 \, 117 45\, Greece;X-APPLE-RADIUS=100;X-TITLE=Athens Ledra Hotel:geo:37.95
 73729,23.71822880000002
END:VEVENT
END:VCALENDAR