BEGIN:VCALENDAR
VERSION:2.0
PRODID:-//wp-events-plugin.com//7.0.5//EN
BEGIN:VEVENT
UID:1@ashrae.gr
DTSTART:20141115T080000Z
DTEND:20141115T210000Z
DTSTAMP:20150614T133548Z
URL:https://www.ashrae.gr/REGISTRATION/events/energy-in-buildings-2014
SUMMARY:Energy in Buildings 2014
DESCRIPTION:
LOCATION:Athens Ledra Hotel\, Syngrou Avenue\, Athens\, Greece
GEO:37.9543098;23.713142500000004
X-APPLE-STRUCTURED-LOCATION;VALUE=URI;X-ADDRESS=Syngrou Avenue\, Athens\, G
 reece;X-APPLE-RADIUS=100;X-TITLE=Athens Ledra Hotel:geo:37.9543098,23.7131
 42500000004
END:VEVENT
END:VCALENDAR