BEGIN:VCALENDAR
VERSION:2.0
PRODID:-//wp-events-plugin.com//7.0.5//EN
BEGIN:VEVENT
UID:38@ashrae.gr
DTSTART;TZID=Europe/Athens:20190411T170000
DTEND;TZID=Europe/Athens:20190411T210000
DTSTAMP:20190412T182113Z
URL:https://www.ashrae.gr/REGISTRATION/events/energy-efficiency-in-commerc
 ial-refrigeration
SUMMARY:Energy Efficiency in Commercial Refrigeration
DESCRIPTION:\n\n[su_box title="Energy Efficiency in Commercial Refrigeratio
 n" style="soft" box_color="#303175"]We welcome you to our Technical Semina
 r "Energy Efficiency in Commercial Refrigeration"! It will take place in A
 thens at the Wyndham Grand Athens Hotel on Thursday April 11\, 2019. [/su
 _box]\n\n[su_note note_color="#c7ff66"]Download the schedule by pressing t
 he Download button.[/su_note][su_button url="https://www.ashrae.gr/REGISTR
 ATION/wp-content/uploads/2019/04/TS_20190411_Timetable.pdf" target="blank"
  style="glass"]Download[/su_button]
LOCATION:Wyndham Grand Athens Hotel\, 2 Megalou Alexandrou Street\, Athens\
 , Greece\, 10437\, Greece
GEO:37.9847978;23.721178699999996
X-APPLE-STRUCTURED-LOCATION;VALUE=URI;X-ADDRESS=2 Megalou Alexandrou Street
 \, Athens\, Greece\, 10437\, Greece;X-APPLE-RADIUS=100;X-TITLE=Wyndham Gra
 nd Athens Hotel:geo:37.9847978,23.721178699999996
END:VEVENT
BEGIN:VTIMEZONE
TZID:Europe/Athens
X-LIC-LOCATION:Europe/Athens
BEGIN:DAYLIGHT
DTSTART:20190331T040000
TZOFFSETFROM:+0200
TZOFFSETTO:+0300
TZNAME:EEST
END:DAYLIGHT
END:VTIMEZONE
END:VCALENDAR