BEGIN:VCALENDAR
VERSION:2.0
PRODID:-//wp-events-plugin.com//7.0.5//EN
BEGIN:VEVENT
UID:13@ashrae.gr
DTSTART:20151210T170000Z
DTEND:20151210T200000Z
DTSTAMP:20160217T135332Z
URL:https://www.ashrae.gr/REGISTRATION/events/ecodesign_and_energy_labelli
 ng
SUMMARY:Ecodesign and Energy Labelling: The new European Directive
DESCRIPTION:\n\n[su_box title="Renewable Energy and Building" style="soft" 
 box_color="#303175"]We welcome you to our Technical Conference "Ecodesign
  and Energy Labelling: The new European Directive"! It will take place at 
 Athens Ledra Hotel on Thursday December 10\, 2015. [/su_box]\n\n&nbsp\;\n
 \n[su_note note_color="#c7ff66"]Download the schedule by pressing the Dow
 nload button.[/su_note][su_button url="http://ashrae.gr/REGISTRATION/wp-co
 ntent/uploads/2015/11/Ecodesign_and_Energy_Labelling_Timetable.pdf" target
 ="blank" style="glass"]Download[/su_button]
LOCATION:Athens Ledra Hotel\, Syngrou Avenue 115\, Athens\, 117 45\, Greece
GEO:37.9573729;23.71822880000002
X-APPLE-STRUCTURED-LOCATION;VALUE=URI;X-ADDRESS=Syngrou Avenue 115\, Athens
 \, 117 45\, Greece;X-APPLE-RADIUS=100;X-TITLE=Athens Ledra Hotel:geo:37.95
 73729,23.71822880000002
END:VEVENT
END:VCALENDAR