BEGIN:VCALENDAR
VERSION:2.0
PRODID:-//wp-events-plugin.com//7.0.5//EN
BEGIN:VEVENT
UID:35@ashrae.gr
DTSTART;TZID=Europe/Athens:20181218T170000
DTEND;TZID=Europe/Athens:20181218T210000
DTSTAMP:20181220T100446Z
URL:https://www.ashrae.gr/REGISTRATION/events/eco-design-refrigeration-hva
 c-design-kenak-and-energy-audits
SUMMARY:Eco Design\, Refrigeration\, HVAC Design\, KENAK & Energy Audits
DESCRIPTION:\n\n[su_box title="Eco Design\, Refrigeration\, HVAC Design\, K
 ENAK &amp\; Energy Audits" style="soft" box_color="#303175"]We welcome you
  to our Technical Seminar "Eco Design\, Refrigeration\, HVAC Design\, KENA
 K &amp\; Energy Audits"! It will take place in Athens at the Wyndham Gran
 d Athens Hotel on Tuesday December 18\, 2018. [/su_box]\n\n[su_note note_
 color="#c7ff66"]Download the schedule by pressing the Download button.[/s
 u_note][su_button url="https://www.ashrae.gr/REGISTRATION/wp-content/uploa
 ds/2018/12/TS_18122018_Timetable.pdf" target="blank" style="glass"]Downloa
 d[/su_button]
LOCATION:Wyndham Grand Athens Hotel\, 2 Megalou Alexandrou Street\, Athens\
 , Greece\, 10437\, Greece
GEO:37.9847978;23.721178699999996
X-APPLE-STRUCTURED-LOCATION;VALUE=URI;X-ADDRESS=2 Megalou Alexandrou Street
 \, Athens\, Greece\, 10437\, Greece;X-APPLE-RADIUS=100;X-TITLE=Wyndham Gra
 nd Athens Hotel:geo:37.9847978,23.721178699999996
END:VEVENT
BEGIN:VTIMEZONE
TZID:Europe/Athens
X-LIC-LOCATION:Europe/Athens
BEGIN:STANDARD
DTSTART:20181028T030000
TZOFFSETFROM:+0300
TZOFFSETTO:+0200
TZNAME:EET
END:STANDARD
END:VTIMEZONE
END:VCALENDAR