BEGIN:VCALENDAR
VERSION:2.0
PRODID:-//wp-events-plugin.com//7.0.5//EN
BEGIN:VEVENT
UID:65@ashrae.gr
DTSTART:20231011T170000Z
DTEND:20231011T210000Z
DTSTAMP:20231027T224622Z
URL:https://www.ashrae.gr/REGISTRATION/events/dedicated-ventilation-applic
 ations
SUMMARY:Dedicated Ventilation Applications
DESCRIPTION:[su_note note_color="#c7ff66"]Download the schedule by pressing
  the Download button.[/su_note][su_button url="https://www.ashrae.gr/REGIS
 TRATION/wp-content/uploads/2023/09/TE-11.10.2023-Announcement.pdf" target=
 "blank" style="glass"]Download[/su_button]
ATTACH;FMTTYPE=image/jpeg:https://www.ashrae.gr/REGISTRATION/wp-content/up
 loads/2023/09/231011_Dedicated-Ventilations_750x500.jpg
CATEGORIES:Conference
LOCATION:Grand Hyatt Athens Hotel\, Λεωφόρος Ανδρέα Συγγ
 ρού 115\, Αθήνα\, 117 45\, Αττική\, Greece
X-APPLE-STRUCTURED-LOCATION;VALUE=URI;X-ADDRESS=Λεωφόρος Ανδρέ
 α Συγγρού 115\, Αθήνα\, 117 45\, Αττική\, Greece;X-APPL
 E-RADIUS=100;X-TITLE=Grand Hyatt Athens Hotel:geo:0,0
END:VEVENT
END:VCALENDAR