BEGIN:VCALENDAR
VERSION:2.0
PRODID:-//wp-events-plugin.com//7.0.5//EN
BEGIN:VEVENT
UID:58@ashrae.gr
DTSTART:20220906T170000Z
DTEND:20220906T203000Z
DTSTAMP:20220906T212947Z
URL:https://www.ashrae.gr/REGISTRATION/events/decarbonizing-data-centers
SUMMARY:Decarbonizing Data Centers
DESCRIPTION:[su_note note_color="#c7ff66"]Download the schedule by pressing
  the Download button.[/su_note][su_button url="https://www.ashrae.gr/REGIS
 TRATION/wp-content/uploads/2016/10/schedule_unavailable.pdf" target="blank
 " style="glass"]Download[/su_button]\n\nJoin online link:\n\n[su_button ur
 l="https://ashrae.webex.com/ashrae/j.php?MTID=mb77c9e995c9f62027ff0ff42f47
 4c32a" target="blank" style="glass"]Cisco Webex[/su_button]\n\nWebinar num
 ber:\n2331 791 2109\n\nWebinar password:\nzGQjqRc8F23 (94757728 from phone
 s)\n\nJoin by phone\n18662994153 United States of America Toll Free\n+1470
 2385742 US Toll\n\nAccess code: 233 179 12109
ATTACH;FMTTYPE=image/jpeg:https://www.ashrae.gr/REGISTRATION/wp-content/up
 loads/2022/08/DATA_CENTERS_FB_sp-1.jpg
CATEGORIES:Conference
LOCATION:Wyndham Grand Athens Hotel\, 2 Megalou Alexandrou Street\, Athens\
 , Greece\, 10437\, Greece
GEO:37.984798;23.721178
X-APPLE-STRUCTURED-LOCATION;VALUE=URI;X-ADDRESS=2 Megalou Alexandrou Street
 \, Athens\, Greece\, 10437\, Greece;X-APPLE-RADIUS=100;X-TITLE=Wyndham Gra
 nd Athens Hotel:geo:37.984798,23.721178
END:VEVENT
END:VCALENDAR