BEGIN:VCALENDAR
VERSION:2.0
PRODID:-//wp-events-plugin.com//7.0.5//EN
BEGIN:VEVENT
UID:53@ashrae.gr
DTSTART;TZID=Europe/Athens:20210414T180000
DTEND;TZID=Europe/Athens:20210414T200000
DTSTAMP:20210412T203230Z
URL:https://www.ashrae.gr/REGISTRATION/events/building-energy-performance-
 certificates-eu-epc-ashrae-beq
SUMMARY:Building Energy Performance Certificates: EU EPC & ASHRAE BΕQ
DESCRIPTION:[su_button url="https://register.gotowebinar.com/register/77025
 45558751452427" target="blank" style="glass" background="#0400e8" size="5"
  center="yes"]Register Here[/su_button]\n\nImportant notice: By selecting 
 "Register Here" you will be transfered to the Webinar Registration Page th
 at is NOT controlled and owned by the ASHRAE Hellenic Chapter. The Webinar
  tool is controlled and owned by the ASHRAE.org.
ATTACH;FMTTYPE=image/jpeg:https://www.ashrae.gr/REGISTRATION/wp-content/up
 loads/2015/03/e-TS20210414_FB_v2.jpg
CATEGORIES:Webinar
END:VEVENT
BEGIN:VTIMEZONE
TZID:Europe/Athens
X-LIC-LOCATION:Europe/Athens
BEGIN:DAYLIGHT
DTSTART:20210328T040000
TZOFFSETFROM:+0200
TZOFFSETTO:+0300
TZNAME:EEST
END:DAYLIGHT
END:VTIMEZONE
END:VCALENDAR