BEGIN:VCALENDAR
VERSION:2.0
PRODID:-//wp-events-plugin.com//7.0.5//EN
BEGIN:VEVENT
UID:24@ashrae.gr
DTSTART:20170406T170000Z
DTEND:20170406T210000Z
DTSTAMP:20170406T171730Z
URL:https://www.ashrae.gr/REGISTRATION/events/building-energy-audits-and-e
 nergy-efficiency
SUMMARY:Building Energy Audits and Energy Efficiency in Existing Buildings
DESCRIPTION:\n\n[su_box title="ASHRAE Standards\, an Introduction" style="s
 oft" box_color="#303175"]We welcome you to our Technical Seminar "Buildin
 g Energy Audits and Energy Efficiency in Existing Buildings"! It will tak
 e place in Athens at the Wyndham Grand Athens Hotel on Thursday April 6\
 , 2017. [/su_box]\n\n[su_note note_color="#c7ff66"]Download the schedule 
 by pressing the Download button.[/su_note][su_button url="http://www.ashra
 e.gr/PDFs/TS_20170406_Timetable.pdf" target="blank" style="glass"]Download
 [/su_button]
LOCATION:Wyndham Grand Athens Hotel\, 2 Megalou Alexandrou Street\, Athens\
 , Greece\, 10437\, Greece
GEO:37.9847978;23.721178699999996
X-APPLE-STRUCTURED-LOCATION;VALUE=URI;X-ADDRESS=2 Megalou Alexandrou Street
 \, Athens\, Greece\, 10437\, Greece;X-APPLE-RADIUS=100;X-TITLE=Wyndham Gra
 nd Athens Hotel:geo:37.9847978,23.721178699999996
END:VEVENT
END:VCALENDAR