BEGIN:VCALENDAR
VERSION:2.0
PRODID:-//wp-events-plugin.com//7.0.5//EN
BEGIN:VEVENT
UID:23@ashrae.gr
DTSTART:20170309T170000Z
DTEND:20170309T210000Z
DTSTAMP:20170309T200400Z
URL:https://www.ashrae.gr/REGISTRATION/events/ashrae_standards_an_introduc
 tion
SUMMARY:ASHRAE Standards\, an Introduction
DESCRIPTION:\n\n[su_box title="ASHRAE Standards\, an Introduction" style="s
 oft" box_color="#303175"]We welcome you to our Technical Seminar "ASHRAE 
 Standards\, an Introduction"! It will take place in Athens at the Wyndham
  Grand Athens Hotel on Thursday March 9\, 2017. [/su_box]\n\n[su_note n
 ote_color="#c7ff66"]Download the schedule by pressing the Download button
 .[/su_note][su_button url="http://www.ashrae.gr/PDFs/TS_20170309_Timetable
 .pdf" target="blank" style="glass"]Download[/su_button]
LOCATION:Wyndham Grand Athens Hotel\, 2 Megalou Alexandrou Street\, Athens\
 , Greece\, 10437\, Greece
GEO:37.9847978;23.721178699999996
X-APPLE-STRUCTURED-LOCATION;VALUE=URI;X-ADDRESS=2 Megalou Alexandrou Street
 \, Athens\, Greece\, 10437\, Greece;X-APPLE-RADIUS=100;X-TITLE=Wyndham Gra
 nd Athens Hotel:geo:37.9847978,23.721178699999996
END:VEVENT
END:VCALENDAR