BEGIN:VCALENDAR
VERSION:2.0
PRODID:-//wp-events-plugin.com//7.0.5//EN
BEGIN:VEVENT
UID:70@ashrae.gr
DTSTART;TZID=Europe/Athens:20240517T170000
DTEND;TZID=Europe/Athens:20240517T213000
DTSTAMP:20241029T072954Z
URL:https://www.ashrae.gr/REGISTRATION/events/ashrae-standards
SUMMARY:ASHRAE STANDARDS
DESCRIPTION:[su_note note_color="#c7ff66"]Download the schedule by pressing
  the Download button.[/su_note][su_button url="https://www.ashrae.gr/REGIS
 TRATION/wp-content/uploads/2024/05/Schedule_TS_170524_DRAFT.pdf" target="b
 lank" style="glass"]Download[/su_button]
ATTACH;FMTTYPE=image/jpeg:https://www.ashrae.gr/REGISTRATION/wp-content/up
 loads/2024/05/ashrae-standards-20240517.jpg
CATEGORIES:Conference
LOCATION:Grand Hyatt Athens Hotel\, Λεωφόρος Ανδρέα Συγγ
 ρού 115\, Αθήνα\, 117 45\, Αττική\, Greece
X-APPLE-STRUCTURED-LOCATION;VALUE=URI;X-ADDRESS=Λεωφόρος Ανδρέ
 α Συγγρού 115\, Αθήνα\, 117 45\, Αττική\, Greece;X-APPL
 E-RADIUS=100;X-TITLE=Grand Hyatt Athens Hotel:geo:0,0
END:VEVENT
BEGIN:VTIMEZONE
TZID:Europe/Athens
X-LIC-LOCATION:Europe/Athens
BEGIN:DAYLIGHT
DTSTART:20240331T040000
TZOFFSETFROM:+0200
TZOFFSETTO:+0300
TZNAME:EEST
END:DAYLIGHT
END:VTIMEZONE
END:VCALENDAR