BEGIN:VCALENDAR
VERSION:2.0
PRODID:-//wp-events-plugin.com//7.0.5//EN
BEGIN:VEVENT
UID:48@ashrae.gr
DTSTART;TZID=Europe/Athens:20200430T180000
DTEND;TZID=Europe/Athens:20200430T200000
DTSTAMP:20200920T103547Z
URL:https://www.ashrae.gr/REGISTRATION/events/ashrae-position-document-on-
 airborne-infectious-diseases-ashrae-covid-19-preparedness-resources
SUMMARY:ASHRAE Position Document on Airborne Infectious Diseases/ASHRAE COV
 ID-19 Preparedness Resources
DESCRIPTION:[su_button url="https://attendee.gotowebinar.com/register/36378
 83061004549131" target="blank" style="glass" background="#0400e8" size="5"
  center="yes"]Register Here[/su_button]\n\nImportant notice: By selecting 
 "Register Here" you will be transfered to the Webinar Registration Page th
 at is NOT controlled and owned by the ASHRAE Hellenic Chapter. The Webinar
  tool is controlled and owned by the ASHRAE.org.
ATTACH;FMTTYPE=image/jpeg:https://www.ashrae.gr/REGISTRATION/wp-content/up
 loads/2015/03/WEBINAR1.jpg
CATEGORIES:Webinar
END:VEVENT
BEGIN:VTIMEZONE
TZID:Europe/Athens
X-LIC-LOCATION:Europe/Athens
BEGIN:DAYLIGHT
DTSTART:20200329T040000
TZOFFSETFROM:+0200
TZOFFSETTO:+0300
TZNAME:EEST
END:DAYLIGHT
END:VTIMEZONE
END:VCALENDAR