BEGIN:VCALENDAR
VERSION:2.0
PRODID:-//wp-events-plugin.com//7.0.5//EN
BEGIN:VEVENT
UID:33@ashrae.gr
DTSTART;TZID=Europe/Athens:20180601T170000
DTEND;TZID=Europe/Athens:20180601T210000
DTSTAMP:20180601T190144Z
URL:https://www.ashrae.gr/REGISTRATION/events/applications-and-legionella-
 control-by-ashraes-standards-and-guidelines
SUMMARY:Applications & Legionella Control by ASHRAE’s Standards & Guideli
 nes
DESCRIPTION:\n\n[su_box title="Applications and Legionella Control by ASHRA
 E’s Standards and Guidelines" style="soft" box_color="#303175"]We welcom
 e you to our Technical Seminar "Applications &amp\; Legionella Control by 
 ASHRAE’s Standards &amp\; Guidelines"! It will take place in Athens at 
 the Wyndham Grand Athens Hotel on Friday June 1\, 2018. [/su_box]\n\n[su_
 note note_color="#c7ff66"]Download the schedule by pressing the Download 
 button.[/su_note][su_button url="https://www.ashrae.gr/PDFs/TS_20180601_Ti
 metable.pdf" target="blank" style="glass"]Download[/su_button]
LOCATION:Wyndham Grand Athens Hotel\, 2 Megalou Alexandrou Street\, Athens\
 , Greece\, 10437\, Greece
GEO:37.9847978;23.721178699999996
X-APPLE-STRUCTURED-LOCATION;VALUE=URI;X-ADDRESS=2 Megalou Alexandrou Street
 \, Athens\, Greece\, 10437\, Greece;X-APPLE-RADIUS=100;X-TITLE=Wyndham Gra
 nd Athens Hotel:geo:37.9847978,23.721178699999996
END:VEVENT
BEGIN:VTIMEZONE
TZID:Europe/Athens
X-LIC-LOCATION:Europe/Athens
BEGIN:DAYLIGHT
DTSTART:20180325T040000
TZOFFSETFROM:+0200
TZOFFSETTO:+0300
TZNAME:EEST
END:DAYLIGHT
END:VTIMEZONE
END:VCALENDAR