BEGIN:VCALENDAR
VERSION:2.0
PRODID:-//wp-events-plugin.com//7.0.5//EN
BEGIN:VEVENT
UID:39@ashrae.gr
DTSTART:20190511T090000Z
DTEND:20190511T193000Z
DTSTAMP:20190511T232059Z
URL:https://www.ashrae.gr/REGISTRATION/events/6th-international-conference
 -energy-in-buildings-northern-hellas
SUMMARY:6th International Conference "Energy in Buildings" - Northern Hella
 s
DESCRIPTION:\n\n[su_box title="6th International Conference 'Energy in Buil
 dings' - Northern Hellas 2019" style="soft" box_color="#303175"]We welcome
  you to the 6th International Conference "Energy in Buildings" in Northern
  Hellas! It will take place at Elerctra Palace Hotel on Saturday\, May 11\
 , 2019. [/su_box]\n\n[su_note note_color="#c7ff66"]Download the schedule 
 by pressing the Download button.[/su_note][su_button url="https://www.ashr
 ae.gr/EinB-NH2019/EinB-NH2019-Timetable.pdf" target="blank" style="glass"]
 Download[/su_button]
CATEGORIES:International Conferences
LOCATION:Electra Palace Thessaloniki\, Aristotelous 9\, Thessaloniki\, 546 
 24\, Greece
GEO:40.6332397;22.94102429999998
X-APPLE-STRUCTURED-LOCATION;VALUE=URI;X-ADDRESS=Aristotelous 9\, Thessaloni
 ki\, 546 24\, Greece;X-APPLE-RADIUS=100;X-TITLE=Electra Palace Thessalonik
 i:geo:40.6332397,22.94102429999998
END:VEVENT
END:VCALENDAR