BEGIN:VCALENDAR
VERSION:2.0
PRODID:-//wp-events-plugin.com//7.0.5//EN
BEGIN:VEVENT
UID:25@ashrae.gr
DTSTART:20170506T090000Z
DTEND:20170506T190000Z
DTSTAMP:20170506T181636Z
URL:https://www.ashrae.gr/REGISTRATION/events/4th-international-conference
 -energy-in-buildings-northern-hellas
SUMMARY:4th International Conference "Energy in Buildings" - Northern Hella
 s
DESCRIPTION:&nbsp\;\n\n\n\n[su_box title="4th International Conference 'En
 ergy in Buildings' - Northern Hellas 2017" style="soft" box_color="#303175
 "]We welcome you to our 4th International Conference "Energy in Buildings
 " in Northern Hellas! It will take place at ΤΕΕ - ΤΚΜ Amphitheater o
 n Saturday\, May 6\, 2017. [/su_box]\n\n[su_note note_color="#c7ff66"]Down
 load the schedule by pressing the Download button.[/su_note][su_button ur
 l="https://www.ashrae.gr/EstaK2017/EinB2017-NH-Timetable.pdf " target="bla
 nk" style="glass"]Download[/su_button]
CATEGORIES:International Conferences
LOCATION:TECHNICAL CHAMBER OF GREECE / SECTION OF CENTRAL MACEDONIA\, Megal
 ou Alexandrou 49\, Thessaloníki\, 546 43\, Greece
GEO:40.6092884;22.95157560000007
X-APPLE-STRUCTURED-LOCATION;VALUE=URI;X-ADDRESS=Megalou Alexandrou 49\, The
 ssaloníki\, 546 43\, Greece;X-APPLE-RADIUS=100;X-TITLE=TECHNICAL CHAMBER 
 OF GREECE / SECTION OF CENTRAL MACEDONIA:geo:40.6092884,22.95157560000007
END:VEVENT
END:VCALENDAR