BEGIN:VCALENDAR
VERSION:2.0
PRODID:-//wp-events-plugin.com//7.0.5//EN
BEGIN:VEVENT
UID:17@ashrae.gr
DTSTART:20160514T090000Z
DTEND:20160514T190000Z
DTSTAMP:20160520T115214Z
URL:https://www.ashrae.gr/REGISTRATION/events/3rd-technical-conference-ene
 rgy-in-buildings-northern-hellas
SUMMARY:3rd Technical Conference "Energy in Buildings" - Northern Hellas
DESCRIPTION:&nbsp\;\n\n\n\n[su_box title="3rd Technical Conference 'Energy 
 in Buildings' - Northern Hellas 2016" style="soft" box_color="#303175"]We 
 welcome you to our 3rd Technical Conference "Energy in Buildings" in Nort
 hern Hellas! It will take place at ΤΕΕ - ΤΚΜ Amphitheater on Saturda
 y\, May 14\, 2016. [/su_box]\n\n[su_note note_color="#c7ff66"]Download the
  schedule by pressing the Download button.[/su_note][su_button url="http:
 //ashrae.gr/REGISTRATION/wp-content/uploads/2016/05/EstaK2016-Timetable.pd
 f" target="blank" style="glass"]Download[/su_button]
LOCATION:TECHNICAL CHAMBER OF GREECE / SECTION OF CENTRAL MACEDONIA\, Megal
 ou Alexandrou 49\, Thessaloníki\, 546 43\, Greece
GEO:40.6092884;22.95157560000007
X-APPLE-STRUCTURED-LOCATION;VALUE=URI;X-ADDRESS=Megalou Alexandrou 49\, The
 ssaloníki\, 546 43\, Greece;X-APPLE-RADIUS=100;X-TITLE=TECHNICAL CHAMBER 
 OF GREECE / SECTION OF CENTRAL MACEDONIA:geo:40.6092884,22.95157560000007
END:VEVENT
END:VCALENDAR